BEGIN:VCALENDAR
VERSION:2.0
PRODID:-//Trawler-Calendar-Tool 0.2
METHOD:PUBLISH
BEGIN:VTIMEZONE
TZID:Europe/Berlin
BEGIN:STANDARD
TZNAME:CET
DTSTART:20100101T010000
RRULE:FREQ=YEARLY;BYDAY=-1SU;BYMONTH=10
TZOFFSETFROM:+0200
TZOFFSETTO:+0100
END:STANDARD
BEGIN:DAYLIGHT
TZNAME:CEST
DTSTART:20100101T010000
RRULE:FREQ=YEARLY;BYDAY=-1SU;BYMONTH=3
TZOFFSETFROM:+0100
TZOFFSETTO:+0200
END:DAYLIGHT
END:VTIMEZONE
X-WR-TIMEZONE:Europe/Berlin
X-ORIGINAL-URL:https://www.spd-pankow.de/termine/
BEGIN:VEVENT
DTSTART;TZID=Europe/Berlin:20260428T190000
DTEND;TZID=Europe/Berlin:20260428T210000
LOCATION:Quasselstube\, Romain-Rolland-Straße 138\, 13089 Berlin
SUMMARY:Abteilungsversammlung
DESCRIPTION:Liebe Genoss:innen\,
 
 Ich lade dich
   herzlichst zur nächsten Abteilungsversammlung am 28.04.2026 um 19.00
   Uhr in die Quasselstube ein.
X-ALT-DESC;FMTTYPE=text/plain:Liebe Genoss:innen\,
 
 Ich lade dich
   herzlichst zur n&auml\;chsten Abteilungsversammlung am 28.04.2026 um 19.00
   Uhr in die Quasselstube ein.
PRIORITY:5
UID:wscms34705-blankhein-5abbdf08e144036a8ff7ce5c849a72ba
URL:https://www.spd-pankow.de/calendar34705.ics
END:VEVENT
END:VCALENDAR