BEGIN:VCALENDAR
VERSION:2.0
PRODID:-//Trawler-Calendar-Tool 0.2
METHOD:PUBLISH
BEGIN:VTIMEZONE
TZID:Europe/Berlin
BEGIN:STANDARD
TZNAME:CET
DTSTART:20100101T010000
RRULE:FREQ=YEARLY;BYDAY=-1SU;BYMONTH=10
TZOFFSETFROM:+0200
TZOFFSETTO:+0100
END:STANDARD
BEGIN:DAYLIGHT
TZNAME:CEST
DTSTART:20100101T010000
RRULE:FREQ=YEARLY;BYDAY=-1SU;BYMONTH=3
TZOFFSETFROM:+0100
TZOFFSETTO:+0200
END:DAYLIGHT
END:VTIMEZONE
X-WR-TIMEZONE:Europe/Berlin
X-ORIGINAL-URL:https://www.spd-pankow.de/termine/
BEGIN:VEVENT
DTSTART;TZID=Europe/Berlin:20260501T100000
DTEND;TZID=Europe/Berlin:20260501T180000
LOCATION:Bürgerpark in Pankow
SUMMARY:SPD Mauerpark: 1. Mai im Bürgerpark
DESCRIPTION:Wie jedes Jahr plant die SPD Pankow ein großes
   Familienfest im Bürgerpark in Pankow. Hier brauchen
   wir viele helfende Hände\, beim Aufbau ab 10.00 Uhr\, beim Abbau gegen
   18.00 Uhr und für Kuchenspenden für den Verkauf. Wenn Du Zeit
   und Lust hast\, dabei zu sein\, dann melde dich gern.
X-ALT-DESC;FMTTYPE=text/plain:Wie jedes Jahr plant die SPD Pankow ein gro&szlig\;es
   Familienfest im B&uuml\;rgerpark in Pankow. Hier brauchen
   wir viele helfende H&auml\;nde\, beim Aufbau ab 10.00 Uhr\, beim Abbau gegen
   18.00 Uhr und f&uuml\;r Kuchenspenden f&uuml\;r den Verkauf. Wenn Du Zeit
   und Lust hast\, dabei zu sein\, dann melde dich gern.
PRIORITY:5
UID:wscms34704-mauerpark-5abbdf08e144036a8ff7ce5c849a72ba
URL:https://www.spd-pankow.de/calendar34704.ics
END:VEVENT
END:VCALENDAR